BEGIN:VCALENDAR
VERSION:2.0
PRODID:-//Wellspring Leadership Development Corp. - ECPv6.15.12.2//NONSGML v1.0//EN
CALSCALE:GREGORIAN
METHOD:PUBLISH
X-WR-CALNAME:Wellspring Leadership Development Corp.
X-ORIGINAL-URL:https://wellspringldc.com
X-WR-CALDESC:Events for Wellspring Leadership Development Corp.
REFRESH-INTERVAL;VALUE=DURATION:PT1H
X-Robots-Tag:noindex
X-PUBLISHED-TTL:PT1H
BEGIN:VTIMEZONE
TZID:America/New_York
BEGIN:DAYLIGHT
TZOFFSETFROM:-0500
TZOFFSETTO:-0400
TZNAME:EDT
DTSTART:20180311T070000
END:DAYLIGHT
BEGIN:STANDARD
TZOFFSETFROM:-0400
TZOFFSETTO:-0500
TZNAME:EST
DTSTART:20181104T060000
END:STANDARD
BEGIN:DAYLIGHT
TZOFFSETFROM:-0500
TZOFFSETTO:-0400
TZNAME:EDT
DTSTART:20190310T070000
END:DAYLIGHT
BEGIN:STANDARD
TZOFFSETFROM:-0400
TZOFFSETTO:-0500
TZNAME:EST
DTSTART:20191103T060000
END:STANDARD
BEGIN:DAYLIGHT
TZOFFSETFROM:-0500
TZOFFSETTO:-0400
TZNAME:EDT
DTSTART:20200308T070000
END:DAYLIGHT
BEGIN:STANDARD
TZOFFSETFROM:-0400
TZOFFSETTO:-0500
TZNAME:EST
DTSTART:20201101T060000
END:STANDARD
BEGIN:DAYLIGHT
TZOFFSETFROM:-0500
TZOFFSETTO:-0400
TZNAME:EDT
DTSTART:20210314T070000
END:DAYLIGHT
BEGIN:STANDARD
TZOFFSETFROM:-0400
TZOFFSETTO:-0500
TZNAME:EST
DTSTART:20211107T060000
END:STANDARD
BEGIN:DAYLIGHT
TZOFFSETFROM:-0500
TZOFFSETTO:-0400
TZNAME:EDT
DTSTART:20220313T070000
END:DAYLIGHT
BEGIN:STANDARD
TZOFFSETFROM:-0400
TZOFFSETTO:-0500
TZNAME:EST
DTSTART:20221106T060000
END:STANDARD
BEGIN:DAYLIGHT
TZOFFSETFROM:-0500
TZOFFSETTO:-0400
TZNAME:EDT
DTSTART:20230312T070000
END:DAYLIGHT
BEGIN:STANDARD
TZOFFSETFROM:-0400
TZOFFSETTO:-0500
TZNAME:EST
DTSTART:20231105T060000
END:STANDARD
BEGIN:DAYLIGHT
TZOFFSETFROM:-0500
TZOFFSETTO:-0400
TZNAME:EDT
DTSTART:20240310T070000
END:DAYLIGHT
BEGIN:STANDARD
TZOFFSETFROM:-0400
TZOFFSETTO:-0500
TZNAME:EST
DTSTART:20241103T060000
END:STANDARD
BEGIN:DAYLIGHT
TZOFFSETFROM:-0500
TZOFFSETTO:-0400
TZNAME:EDT
DTSTART:20250309T070000
END:DAYLIGHT
BEGIN:STANDARD
TZOFFSETFROM:-0400
TZOFFSETTO:-0500
TZNAME:EST
DTSTART:20251102T060000
END:STANDARD
BEGIN:DAYLIGHT
TZOFFSETFROM:-0500
TZOFFSETTO:-0400
TZNAME:EDT
DTSTART:20260308T070000
END:DAYLIGHT
BEGIN:STANDARD
TZOFFSETFROM:-0400
TZOFFSETTO:-0500
TZNAME:EST
DTSTART:20261101T060000
END:STANDARD
END:VTIMEZONE
BEGIN:VEVENT
DTSTART;TZID=America/New_York:20250322T100000
DTEND;TZID=America/New_York:20250322T140000
DTSTAMP:20260419T091533
CREATED:20251230T105307Z
LAST-MODIFIED:20251230T105307Z
UID:10000018-1742637600-1742652000@wellspringldc.com
SUMMARY:2025
DESCRIPTION:
URL:https://wellspringldc.com/event/2025/
ATTACH;FMTTYPE=image/jpeg:https://wellspringldc.com/wp-content/uploads/2025/12/694f1262019fe_FinanceWorkshop2025.jpg
END:VEVENT
BEGIN:VEVENT
DTSTART;TZID=America/New_York:20231118T130000
DTEND;TZID=America/New_York:20231118T150000
DTSTAMP:20260419T091533
CREATED:20251230T105133Z
LAST-MODIFIED:20251230T112047Z
UID:10000017-1700312400-1700319600@wellspringldc.com
SUMMARY:2023
DESCRIPTION:
URL:https://wellspringldc.com/event/2023/
ATTACH;FMTTYPE=image/jpeg:https://wellspringldc.com/wp-content/uploads/2025/12/694f11c0e2ccc_PlantProjectFlyer2023-1.jpg
END:VEVENT
BEGIN:VEVENT
DTSTART;TZID=America/New_York:20230724T100000
DTEND;TZID=America/New_York:20230725T150000
DTSTAMP:20260419T091533
CREATED:20251230T105424Z
LAST-MODIFIED:20251230T112729Z
UID:10000019-1690192800-1690297200@wellspringldc.com
SUMMARY:2023
DESCRIPTION:
URL:https://wellspringldc.com/event/2023-2/
ATTACH;FMTTYPE=image/jpeg:https://wellspringldc.com/wp-content/uploads/2025/12/694f162cbb9e0_FlyerNigeriaTalk2023.jpg
END:VEVENT
BEGIN:VEVENT
DTSTART;VALUE=DATE:20210101
DTEND;VALUE=DATE:20210102
DTSTAMP:20260419T091533
CREATED:20251230T104511Z
LAST-MODIFIED:20251230T104658Z
UID:10000014-1609459200-1609545599@wellspringldc.com
SUMMARY:2021
DESCRIPTION:
URL:https://wellspringldc.com/event/2021/
ATTACH;FMTTYPE=image/jpeg:https://wellspringldc.com/wp-content/uploads/2025/12/694f087186b55_SayItWriteJam-1-scaled.jpg
END:VEVENT
BEGIN:VEVENT
DTSTART;TZID=America/New_York:20200124T190000
DTEND;TZID=America/New_York:20200124T235900
DTSTAMP:20260419T091533
CREATED:20251230T103759Z
LAST-MODIFIED:20251230T104149Z
UID:10000012-1579892400-1579910340@wellspringldc.com
SUMMARY:2020
DESCRIPTION:
URL:https://wellspringldc.com/event/2020/
ATTACH;FMTTYPE=image/jpeg:https://wellspringldc.com/wp-content/uploads/2025/12/694f115c298a9_Gala2020Flyer.jpg
END:VEVENT
BEGIN:VEVENT
DTSTART;VALUE=DATE:20191113
DTEND;VALUE=DATE:20191114
DTSTAMP:20260419T091533
CREATED:20251230T104805Z
LAST-MODIFIED:20251230T104805Z
UID:10000015-1573603200-1573689599@wellspringldc.com
SUMMARY:2019
DESCRIPTION:
URL:https://wellspringldc.com/event/2019-2/
ATTACH;FMTTYPE=image/jpeg:https://wellspringldc.com/wp-content/uploads/2025/12/694f1122aecdc_Under35PanelDiscussionFlyer2019-scaled.jpg
END:VEVENT
BEGIN:VEVENT
DTSTART;TZID=America/New_York:20191109T110000
DTEND;TZID=America/New_York:20191109T233000
DTSTAMP:20260419T091533
CREATED:20251230T104930Z
LAST-MODIFIED:20251230T112223Z
UID:10000016-1573297200-1573342200@wellspringldc.com
SUMMARY:2019
DESCRIPTION:
URL:https://wellspringldc.com/event/2019-3/
ATTACH;FMTTYPE=image/jpeg:https://wellspringldc.com/wp-content/uploads/2025/12/694f10cac68cf_DaffodilPlanting2019-1.jpg
END:VEVENT
BEGIN:VEVENT
DTSTART;VALUE=DATE:20190817
DTEND;VALUE=DATE:20190826
DTSTAMP:20260419T091533
CREATED:20251230T131536Z
LAST-MODIFIED:20251230T131536Z
UID:10000020-1566000000-1566777599@wellspringldc.com
SUMMARY:2019
DESCRIPTION:
URL:https://wellspringldc.com/event/2019-4/
ATTACH;FMTTYPE=image/jpeg:https://wellspringldc.com/wp-content/uploads/2025/12/694f0899616d3_nextgenconfFlyer-1.jpg
END:VEVENT
BEGIN:VEVENT
DTSTART;TZID=America/New_York:20190427T090000
DTEND;TZID=America/New_York:20190427T140000
DTSTAMP:20260419T091533
CREATED:20251230T104029Z
LAST-MODIFIED:20251230T104029Z
UID:10000013-1556355600-1556373600@wellspringldc.com
SUMMARY:2019
DESCRIPTION:
URL:https://wellspringldc.com/event/2019/
ATTACH;FMTTYPE=image/jpeg:https://wellspringldc.com/wp-content/uploads/2025/12/694f07ee0288d_nextgenconfflyer2.jpg
END:VEVENT
END:VCALENDAR